BEGIN:VCALENDAR
VERSION:2.0
PRODID:-//DIOCESI DI ROMA - ECPv4.6.14.1//NONSGML v1.0//EN
CALSCALE:GREGORIAN
METHOD:PUBLISH
X-WR-CALNAME:DIOCESI DI ROMA
X-ORIGINAL-URL:https://www.diocesidiroma.it
X-WR-CALDESC:Eventi per DIOCESI DI ROMA
BEGIN:VEVENT
DTSTART;TZID=Europe/Rome:20260204T083000
DTEND;TZID=Europe/Rome:20260204T130000
DTSTAMP:20260422T053851
CREATED:20260129T115144Z
LAST-MODIFIED:20260129T115144Z
UID:39710-1770193800-1770210000@www.diocesidiroma.it
SUMMARY:Ritiro spirituale del Consiglio episcopale
DESCRIPTION:Ritiro spirituale del Consiglio episcopale  \n
URL:https://www.diocesidiroma.it/event/ritiro-spirituale-del-consiglio-episcopale/
CATEGORIES:Vicario Generale
END:VEVENT
END:VCALENDAR