BEGIN:VCALENDAR
VERSION:2.0
PRODID:-//DIOCESI DI ROMA - ECPv4.6.14.1//NONSGML v1.0//EN
CALSCALE:GREGORIAN
METHOD:PUBLISH
X-WR-CALNAME:DIOCESI DI ROMA
X-ORIGINAL-URL:https://www.diocesidiroma.it
X-WR-CALDESC:Eventi per DIOCESI DI ROMA
BEGIN:VEVENT
DTSTART;VALUE=DATE:20260301
DTEND;VALUE=DATE:20260302
DTSTAMP:20260421T042336
CREATED:20251001T080332Z
LAST-MODIFIED:20251031T142713Z
UID:37493-1772323200-1772409599@www.diocesidiroma.it
SUMMARY:Ritiro spirituale di Quaresima per i docenti all'Abbazia di San Paolo fuori le Mura (Uff. per la Pastorale universitaria)
DESCRIPTION:Ritiro spirituale di Quaresima per i docenti all’Abbazia di San Paolo fuori le Mura (Uff. per la Pastorale universitaria) \n
URL:https://www.diocesidiroma.it/event/ritiro-spirituale-di-quaresima-per-i-docenti-uff-per-la-pastorale-universitaria/
CATEGORIES:In Diocesi,Iniziative degli Uffici
END:VEVENT
END:VCALENDAR