BEGIN:VCALENDAR
VERSION:2.0
PRODID:-//DIOCESI DI ROMA - ECPv4.6.14.1//NONSGML v1.0//EN
CALSCALE:GREGORIAN
METHOD:PUBLISH
X-WR-CALNAME:DIOCESI DI ROMA
X-ORIGINAL-URL:https://www.diocesidiroma.it
X-WR-CALDESC:Eventi per DIOCESI DI ROMA
BEGIN:VEVENT
DTSTART;TZID=Europe/Rome:20181124T000000
DTEND;TZID=Europe/Rome:20181124T000000
DTSTAMP:20260422T070122
CREATED:20180913T082415Z
LAST-MODIFIED:20180913T082415Z
UID:4535-1543017600-1543017600@www.diocesidiroma.it
SUMMARY:Ritiro spirituale in preparazione all'Avvento
DESCRIPTION:Ritiro spirituale in preparazione all’Avvento presso la basilica di San Giovanni in Laterano\, promosso dal Centro per la pastorale sanitaria e dall’Ufficio liturgico. \n
URL:https://www.diocesidiroma.it/event/ritiro-spirituale-in-preparazione-allavvento/
CATEGORIES:Iniziative degli Uffici
END:VEVENT
END:VCALENDAR