BEGIN:VCALENDAR
VERSION:2.0
PRODID:-//DIOCESI DI ROMA - ECPv4.6.14.1//NONSGML v1.0//EN
CALSCALE:GREGORIAN
METHOD:PUBLISH
X-WR-CALNAME:DIOCESI DI ROMA
X-ORIGINAL-URL:https://www.diocesidiroma.it
X-WR-CALDESC:Eventi per DIOCESI DI ROMA
BEGIN:VEVENT
DTSTART;TZID=Europe/Rome:20240217T090000
DTEND;TZID=Europe/Rome:20240217T120000
DTSTAMP:20260423T020251
CREATED:20240122T122256Z
LAST-MODIFIED:20240122T122256Z
UID:28620-1708160400-1708171200@www.diocesidiroma.it
SUMMARY:Ritiro spirituale per gli operatori della carità (Caritas)
DESCRIPTION: Ritiro spirituale per gli operatori della carità (Caritas) \n
URL:https://www.diocesidiroma.it/event/ritiro-spirituale-per-gli-operatori-della-carita-caritas/
CATEGORIES:Caritas
END:VEVENT
END:VCALENDAR