BEGIN:VCALENDAR
VERSION:2.0
PRODID:-//DIOCESI DI ROMA - ECPv4.6.14.1//NONSGML v1.0//EN
CALSCALE:GREGORIAN
METHOD:PUBLISH
X-WR-CALNAME:DIOCESI DI ROMA
X-ORIGINAL-URL:https://www.diocesidiroma.it
X-WR-CALDESC:Eventi per DIOCESI DI ROMA
BEGIN:VEVENT
DTSTART;TZID=Europe/Rome:20231202T090000
DTEND;TZID=Europe/Rome:20231202T123000
DTSTAMP:20260421T024954
CREATED:20231115T093026Z
LAST-MODIFIED:20231115T093046Z
UID:27896-1701507600-1701520200@www.diocesidiroma.it
SUMMARY:Ritiro spirituale per gli operatori della carità (Uff. Caritas)
DESCRIPTION:Ritiro spirituale per gli operatori della carità (Uff. Caritas) \n
URL:https://www.diocesidiroma.it/event/ritiro-spirituale-per-gli-operatori-della-carita-uff-caritas/
CATEGORIES:In Diocesi,Iniziative degli Uffici
END:VEVENT
END:VCALENDAR