BEGIN:VCALENDAR
VERSION:2.0
PRODID:-//DIOCESI DI ROMA - ECPv4.6.14.1//NONSGML v1.0//EN
CALSCALE:GREGORIAN
METHOD:PUBLISH
X-WR-CALNAME:DIOCESI DI ROMA
X-ORIGINAL-URL:https://www.diocesidiroma.it
X-WR-CALDESC:Eventi per DIOCESI DI ROMA
BEGIN:VEVENT
DTSTART;TZID=Europe/Rome:20190706T000000
DTEND;TZID=Europe/Rome:20190707T000000
DTSTAMP:20260422T145755
CREATED:20181023T140315Z
LAST-MODIFIED:20181023T140315Z
UID:5311-1562371200-1562457600@www.diocesidiroma.it
SUMMARY:Ritiro spirituale per gli operatori socio-sanitari
DESCRIPTION:Ritiro spirituale per gli operatori socio-sanitari\, a cura del Centro per la pastorale sanitaria. \n
URL:https://www.diocesidiroma.it/event/ritiro-spirituale-per-gli-operatori-socio-sanitari/
CATEGORIES:Iniziative degli Uffici
END:VEVENT
END:VCALENDAR