BEGIN:VCALENDAR
VERSION:2.0
PRODID:-//DIOCESI DI ROMA - ECPv4.6.14.1//NONSGML v1.0//EN
CALSCALE:GREGORIAN
METHOD:PUBLISH
X-WR-CALNAME:DIOCESI DI ROMA
X-ORIGINAL-URL:https://www.diocesidiroma.it
X-WR-CALDESC:Eventi per DIOCESI DI ROMA
BEGIN:VEVENT
DTSTART;TZID=Europe/Rome:20260415T093000
DTEND;TZID=Europe/Rome:20260415T093000
DTSTAMP:20260421T085129
CREATED:20260330T065647Z
LAST-MODIFIED:20260410T063718Z
UID:40771-1776245400-1776245400@www.diocesidiroma.it
SUMMARY:Partecipa al Convegno su “Evangelizzare in tempi difficili” ad Ariccia
DESCRIPTION:Partecipa al Convegno su “Evangelizzare in tempi difficili” ad Ariccia \n
URL:https://www.diocesidiroma.it/event/ritiro-spirituale-presso-la-casa-divin-maestro-di-ariccia/
CATEGORIES:Vicario Generale
END:VEVENT
END:VCALENDAR