BEGIN:VCALENDAR
VERSION:2.0
PRODID:-//DIOCESI DI ROMA - ECPv4.6.14.1//NONSGML v1.0//EN
CALSCALE:GREGORIAN
METHOD:PUBLISH
X-WR-CALNAME:DIOCESI DI ROMA
X-ORIGINAL-URL:https://www.diocesidiroma.it
X-WR-CALDESC:Eventi per DIOCESI DI ROMA
BEGIN:VEVENT
DTSTART;TZID=Europe/Rome:20260322T150000
DTEND;TZID=Europe/Rome:20260322T170000
DTSTAMP:20260421T154125
CREATED:20251001T092059Z
LAST-MODIFIED:20251001T092059Z
UID:37539-1774191600-1774198800@www.diocesidiroma.it
SUMMARY:Rito del III scrutinio e consegna del Padre Nostro per i catecumeni del II anno
DESCRIPTION:Rito del III scrutinio e consegna del Padre Nostro per i catecumeni del II anno – Basilica di S. Giovanni in Laterano (Uff. per il Catecumenato) \n
URL:https://www.diocesidiroma.it/event/rito-del-iii-scrutinio-e-consegna-del-padre-nostro-per-i-catecumeni-del-ii-anno/
CATEGORIES:In Diocesi,Iniziative degli Uffici
END:VEVENT
END:VCALENDAR