BEGIN:VCALENDAR
VERSION:2.0
PRODID:-//DIOCESI DI ROMA - ECPv4.6.14.1//NONSGML v1.0//EN
CALSCALE:GREGORIAN
METHOD:PUBLISH
X-WR-CALNAME:DIOCESI DI ROMA
X-ORIGINAL-URL:https://www.diocesidiroma.it
X-WR-CALDESC:Eventi per DIOCESI DI ROMA
BEGIN:VEVENT
DTSTART;TZID=Europe/Rome:20251201T190000
DTEND;TZID=Europe/Rome:20251201T190000
DTSTAMP:20260421T075742
CREATED:20251127T130549Z
LAST-MODIFIED:20251127T130549Z
UID:38823-1764615600-1764615600@www.diocesidiroma.it
SUMMARY:Rito penitenziale congiunto alla celebrazione eucaristica presso la parrocchia San Nicola di Bari ad Ostia in riparazione della profanazione avvenuta il 25 novembre scorso
DESCRIPTION:Rito penitenziale congiunto alla celebrazione eucaristica presso la parrocchia San Nicola di Bari ad Ostia in riparazione della profanazione avvenuta il 25 novembre scorso \n
URL:https://www.diocesidiroma.it/event/rito-penitenziale-congiunto-alla-celebrazione-eucaristica-presso-la-parrocchia-san-nicola-di-bari-ad-ostia-in-riparazione-della-profanazione-avvenuta-il-25-novembre-scorso/
CATEGORIES:Vicario Generale
END:VEVENT
END:VCALENDAR