BEGIN:VCALENDAR
VERSION:2.0
PRODID:-//DIOCESI DI ROMA - ECPv4.6.14.1//NONSGML v1.0//EN
CALSCALE:GREGORIAN
METHOD:PUBLISH
X-WR-CALNAME:DIOCESI DI ROMA
X-ORIGINAL-URL:https://www.diocesidiroma.it
X-WR-CALDESC:Eventi per DIOCESI DI ROMA
BEGIN:VEVENT
DTSTART;TZID=Europe/Rome:20260302T160000
DTEND;TZID=Europe/Rome:20260302T160000
DTSTAMP:20260421T101719
CREATED:20260226T104553Z
LAST-MODIFIED:20260226T104735Z
UID:40193-1772467200-1772467200@www.diocesidiroma.it
SUMMARY:Riunione capitolare dei Canonici di San Giovanni in Laterano
DESCRIPTION:Riunione capitolare dei Canonici di San Giovanni in Laterano \n
URL:https://www.diocesidiroma.it/event/riunione-capitolare-dei-canonici-di-san-giovanni-in-laterano/
CATEGORIES:Vicario Generale
END:VEVENT
END:VCALENDAR