BEGIN:VCALENDAR
VERSION:2.0
PRODID:-//DIOCESI DI ROMA - ECPv4.6.14.1//NONSGML v1.0//EN
CALSCALE:GREGORIAN
METHOD:PUBLISH
X-WR-CALNAME:DIOCESI DI ROMA
X-ORIGINAL-URL:https://www.diocesidiroma.it
X-WR-CALDESC:Eventi per DIOCESI DI ROMA
BEGIN:VEVENT
DTSTART;TZID=Europe/Rome:20250123T110000
DTEND;TZID=Europe/Rome:20250123T120000
DTSTAMP:20260422T043318
CREATED:20250117T111831Z
LAST-MODIFIED:20250117T111831Z
UID:33357-1737630000-1737633600@www.diocesidiroma.it
SUMMARY:Riunione con i direttori degli Uffici
DESCRIPTION:Riunione con i direttori degli Uffici \n
URL:https://www.diocesidiroma.it/event/riunione-con-i-direttori-degli-uffici/
CATEGORIES:Vicario Generale
END:VEVENT
END:VCALENDAR