BEGIN:VCALENDAR
VERSION:2.0
PRODID:-//DIOCESI DI ROMA - ECPv4.6.14.1//NONSGML v1.0//EN
CALSCALE:GREGORIAN
METHOD:PUBLISH
X-WR-CALNAME:DIOCESI DI ROMA
X-ORIGINAL-URL:https://www.diocesidiroma.it
X-WR-CALDESC:Eventi per DIOCESI DI ROMA
BEGIN:VEVENT
DTSTART;TZID=Europe/Rome:20251027T103000
DTEND;TZID=Europe/Rome:20251027T113000
DTSTAMP:20260424T014348
CREATED:20251024T101555Z
LAST-MODIFIED:20251024T101555Z
UID:38156-1761561000-1761564600@www.diocesidiroma.it
SUMMARY:Riunione con i parroci del quartiere di Tor Bella Monaca
DESCRIPTION:Riunione con i parroci del quartiere di Tor Bella Monaca \n
URL:https://www.diocesidiroma.it/event/riunione-con-i-parroci-del-quartiere-di-tor-bella-monaca/
CATEGORIES:Vicario Generale
END:VEVENT
END:VCALENDAR