BEGIN:VCALENDAR
VERSION:2.0
PRODID:-//DIOCESI DI ROMA - ECPv4.6.14.1//NONSGML v1.0//EN
CALSCALE:GREGORIAN
METHOD:PUBLISH
X-WR-CALNAME:DIOCESI DI ROMA
X-ORIGINAL-URL:https://www.diocesidiroma.it
X-WR-CALDESC:Eventi per DIOCESI DI ROMA
BEGIN:VEVENT
DTSTART;TZID=Europe/Rome:20200616T173000
DTEND;TZID=Europe/Rome:20200616T193000
DTSTAMP:20260423T152758
CREATED:20200219T091530Z
LAST-MODIFIED:20200219T091530Z
UID:10129-1592328600-1592335800@www.diocesidiroma.it
SUMMARY:Riunione della Commissione diocesana ecumenismo
DESCRIPTION:Riunione della Commissione diocesana ecumenismo a cura dell’Ufficio ecumenismo e dialogo interreligioso. \n
URL:https://www.diocesidiroma.it/event/riunione-della-commissione-diocesana-ecumenismo-4/
CATEGORIES:Iniziative degli Uffici
END:VEVENT
END:VCALENDAR