BEGIN:VCALENDAR
VERSION:2.0
PRODID:-//DIOCESI DI ROMA - ECPv4.6.14.1//NONSGML v1.0//EN
CALSCALE:GREGORIAN
METHOD:PUBLISH
X-WR-CALNAME:DIOCESI DI ROMA
X-ORIGINAL-URL:https://www.diocesidiroma.it
X-WR-CALDESC:Eventi per DIOCESI DI ROMA
BEGIN:VEVENT
DTSTART;TZID=Europe/Rome:20191210T173000
DTEND;TZID=Europe/Rome:20191210T193000
DTSTAMP:20260423T182112
CREATED:20191118T102931Z
LAST-MODIFIED:20191118T102931Z
UID:9318-1575999000-1576006200@www.diocesidiroma.it
SUMMARY:Riunione della Commissione diocesana ecumenismo - Lay Centre
DESCRIPTION:Riunione della Commissione diocesana ecumenismo – Lay Centre\, a cura dell’Ufficio per l’ecumenismo e il dialogo. \n
URL:https://www.diocesidiroma.it/event/riunione-della-commissione-diocesana-ecumenismo-lay-centre/
CATEGORIES:Iniziative degli Uffici
END:VEVENT
END:VCALENDAR