BEGIN:VCALENDAR
VERSION:2.0
PRODID:-//DIOCESI DI ROMA - ECPv4.6.14.1//NONSGML v1.0//EN
CALSCALE:GREGORIAN
METHOD:PUBLISH
X-WR-CALNAME:DIOCESI DI ROMA
X-ORIGINAL-URL:https://www.diocesidiroma.it
X-WR-CALDESC:Eventi per DIOCESI DI ROMA
BEGIN:VEVENT
DTSTART;TZID=Europe/Rome:20250120T110000
DTEND;TZID=Europe/Rome:20250120T120000
DTSTAMP:20260421T181506
CREATED:20250117T105657Z
LAST-MODIFIED:20250117T105715Z
UID:33339-1737370800-1737374400@www.diocesidiroma.it
SUMMARY:Riunione direzionale
DESCRIPTION:Riunione direzionale \n
URL:https://www.diocesidiroma.it/event/riunione-direzionale-3/
CATEGORIES:Vicario Generale
END:VEVENT
END:VCALENDAR