BEGIN:VCALENDAR
VERSION:2.0
PRODID:-//DIOCESI DI ROMA - ECPv4.6.14.1//NONSGML v1.0//EN
CALSCALE:GREGORIAN
METHOD:PUBLISH
X-WR-CALNAME:DIOCESI DI ROMA
X-ORIGINAL-URL:https://www.diocesidiroma.it
X-WR-CALDESC:Eventi per DIOCESI DI ROMA
BEGIN:VEVENT
DTSTART;TZID=Europe/Rome:20241217T080000
DTEND;TZID=Europe/Rome:20241217T080000
DTSTAMP:20260422T065715
CREATED:20241216T074047Z
LAST-MODIFIED:20241216T074047Z
UID:32552-1734422400-1734422400@www.diocesidiroma.it
SUMMARY:Riunione direzionale
DESCRIPTION:Riunione direzionale \n
URL:https://www.diocesidiroma.it/event/riunione-direzionale/
CATEGORIES:Vicario Generale
END:VEVENT
END:VCALENDAR