BEGIN:VCALENDAR
VERSION:2.0
PRODID:-//DIOCESI DI ROMA - ECPv4.6.14.1//NONSGML v1.0//EN
CALSCALE:GREGORIAN
METHOD:PUBLISH
X-WR-CALNAME:DIOCESI DI ROMA
X-ORIGINAL-URL:https://www.diocesidiroma.it
X-WR-CALDESC:Eventi per DIOCESI DI ROMA
BEGIN:VEVENT
DTSTART;TZID=Europe/Rome:20181019T200000
DTEND;TZID=Europe/Rome:20181019T200000
DTSTAMP:20260421T223718
CREATED:20180912T131429Z
LAST-MODIFIED:20180912T131429Z
UID:4412-1539979200-1539979200@www.diocesidiroma.it
SUMMARY:Roma by night: Collegio Romano
DESCRIPTION:Roma by night: serata dedicata al Collegio Romano\, a cura del Servizio diocesano per la cultura e l’università. \n
URL:https://www.diocesidiroma.it/event/roma-by-night-collegio-romano/
CATEGORIES:In Diocesi
END:VEVENT
END:VCALENDAR