BEGIN:VCALENDAR
VERSION:2.0
PRODID:-//DIOCESI DI ROMA - ECPv4.6.14.1//NONSGML v1.0//EN
CALSCALE:GREGORIAN
METHOD:PUBLISH
X-WR-CALNAME:DIOCESI DI ROMA
X-ORIGINAL-URL:https://www.diocesidiroma.it
X-WR-CALDESC:Eventi per DIOCESI DI ROMA
BEGIN:VEVENT
DTSTART;TZID=Europe/Rome:20190321T200000
DTEND;TZID=Europe/Rome:20190321T200000
DTSTAMP:20260421T171456
CREATED:20181011T081255Z
LAST-MODIFIED:20181011T081255Z
UID:5026-1553198400-1553198400@www.diocesidiroma.it
SUMMARY:Roma by night: il Campidoglio
DESCRIPTION:Roma by night: il Campidoglio. Iniziativa a cura del Servizio cultura e università. \n
URL:https://www.diocesidiroma.it/event/roma-by-night-il-campidoglio/
CATEGORIES:Iniziative degli Uffici
END:VEVENT
END:VCALENDAR