BEGIN:VCALENDAR
VERSION:2.0
PRODID:-//DIOCESI DI ROMA - ECPv4.6.14.1//NONSGML v1.0//EN
CALSCALE:GREGORIAN
METHOD:PUBLISH
X-WR-CALNAME:DIOCESI DI ROMA
X-ORIGINAL-URL:https://www.diocesidiroma.it
X-WR-CALDESC:Eventi per DIOCESI DI ROMA
BEGIN:VEVENT
DTSTART;TZID=Europe/Rome:20190218T200000
DTEND;TZID=Europe/Rome:20190218T200000
DTSTAMP:20260421T025146
CREATED:20181010T072013Z
LAST-MODIFIED:20181010T072013Z
UID:4968-1550520000-1550520000@www.diocesidiroma.it
SUMMARY:Roma by night: "Santa Maria sopra Minerva - il Beato Angelico"
DESCRIPTION:Roma by night: “Santa Maria sopra Minerva – il Beato Angelico”\, a cura del Servizio cultura e università. L’incontro sarà preceduto dalla Messa\, celebrata alle ore 18.30. \n
URL:https://www.diocesidiroma.it/event/roma-by-night-santa-maria-sopra-minerva-il-beato-angelico/
CATEGORIES:Iniziative degli Uffici
END:VEVENT
END:VCALENDAR