BEGIN:VCALENDAR
VERSION:2.0
PRODID:-//DIOCESI DI ROMA - ECPv4.6.14.1//NONSGML v1.0//EN
CALSCALE:GREGORIAN
METHOD:PUBLISH
X-WR-CALNAME:DIOCESI DI ROMA
X-ORIGINAL-URL:https://www.diocesidiroma.it
X-WR-CALDESC:Eventi per DIOCESI DI ROMA
BEGIN:VEVENT
DTSTART;TZID=Europe/Rome:20191007T000000
DTEND;TZID=Europe/Rome:20191007T000000
DTSTAMP:20260422T001632
CREATED:20190916T083840Z
LAST-MODIFIED:20190916T083840Z
UID:8328-1570406400-1570406400@www.diocesidiroma.it
SUMMARY:Rosario Missionario organizzato dalla Congregazione per l'evangelizzazione dei popoli a Santa Maria Maggiore
DESCRIPTION:Rosario Missionario organizzato dalla Congregazione per l’evangelizzazione dei popoli a Santa Maria Maggiore (Centro Missionario diocesano). \n
URL:https://www.diocesidiroma.it/event/rosario-missionario-organizzato-dalla-congregazione-per-levangelizzazione-dei-popoli-a-santa-maria-maggiore/
CATEGORIES:Iniziative degli Uffici
END:VEVENT
END:VCALENDAR