BEGIN:VCALENDAR
VERSION:2.0
PRODID:-//DIOCESI DI ROMA - ECPv4.6.14.1//NONSGML v1.0//EN
CALSCALE:GREGORIAN
METHOD:PUBLISH
X-WR-CALNAME:DIOCESI DI ROMA
X-ORIGINAL-URL:https://www.diocesidiroma.it
X-WR-CALDESC:Eventi per DIOCESI DI ROMA
BEGIN:VEVENT
DTSTART;TZID=Europe/Rome:20260517T170000
DTEND;TZID=Europe/Rome:20260517T170000
DTSTAMP:20260421T032245
CREATED:20251021T133521Z
LAST-MODIFIED:20251021T133521Z
UID:38114-1779037200-1779037200@www.diocesidiroma.it
SUMMARY:Rosario per la pace animato dalle comunità etniche di Roma
DESCRIPTION:Rosario per la pace animato dalle comunità etniche di Roma – S. Maria degli Angeli e dei Martiri (Uff. Migrantes per la pastorale della mobilità umana) \n
URL:https://www.diocesidiroma.it/event/rosario-per-la-pace-animato-dalle-comunita-etniche-di-roma/
CATEGORIES:In Diocesi,Iniziative degli Uffici
END:VEVENT
END:VCALENDAR