BEGIN:VCALENDAR
VERSION:2.0
PRODID:-//DIOCESI DI ROMA - ECPv4.6.14.1//NONSGML v1.0//EN
CALSCALE:GREGORIAN
METHOD:PUBLISH
X-WR-CALNAME:DIOCESI DI ROMA
X-ORIGINAL-URL:https://www.diocesidiroma.it
X-WR-CALDESC:Eventi per DIOCESI DI ROMA
BEGIN:VEVENT
DTSTART;TZID=Europe/Rome:20250525T103000
DTEND;TZID=Europe/Rome:20250525T103000
DTSTAMP:20260424T200220
CREATED:20250516T115958Z
LAST-MODIFIED:20250516T115958Z
UID:35701-1748169000-1748169000@www.diocesidiroma.it
SUMMARY:S. Messa a S. Giovanni in Laterano (Giubileo dell’ORA)
DESCRIPTION:S. Messa a S. Giovanni in Laterano (Giubileo dell’ORA) \n
URL:https://www.diocesidiroma.it/event/s-messa-a-s-giovanni-in-laterano-giubileo-dellora/
CATEGORIES:Vicario Generale
END:VEVENT
END:VCALENDAR