BEGIN:VCALENDAR
VERSION:2.0
PRODID:-//DIOCESI DI ROMA - ECPv4.6.14.1//NONSGML v1.0//EN
CALSCALE:GREGORIAN
METHOD:PUBLISH
X-WR-CALNAME:DIOCESI DI ROMA
X-ORIGINAL-URL:https://www.diocesidiroma.it
X-WR-CALDESC:Eventi per DIOCESI DI ROMA
BEGIN:VEVENT
DTSTART;VALUE=DATE:20171208
DTEND;VALUE=DATE:20171209
DTSTAMP:20260425T172529
CREATED:20171228T120323Z
LAST-MODIFIED:20171228T120323Z
UID:461-1512691200-1512777599@www.diocesidiroma.it
SUMMARY:S. Messa a S. Maria Odigitria e processione all’ Immacolata in Piazza di Spagna
DESCRIPTION:
URL:https://www.diocesidiroma.it/event/s-messa-a-s-maria-odigitria-e-processione-all-immacolata-in-piazza-di-spagna/
CATEGORIES:Iniziative degli Uffici
END:VEVENT
END:VCALENDAR