BEGIN:VCALENDAR
VERSION:2.0
PRODID:-//DIOCESI DI ROMA - ECPv4.6.14.1//NONSGML v1.0//EN
CALSCALE:GREGORIAN
METHOD:PUBLISH
X-WR-CALNAME:DIOCESI DI ROMA
X-ORIGINAL-URL:https://www.diocesidiroma.it
X-WR-CALDESC:Eventi per DIOCESI DI ROMA
BEGIN:VEVENT
DTSTART;TZID=Europe/Rome:20180401T180000
DTEND;TZID=Europe/Rome:20180401T180000
DTSTAMP:20260425T004558
CREATED:20180325T233014Z
LAST-MODIFIED:20180325T233014Z
UID:1831-1522605600-1522605600@www.diocesidiroma.it
SUMMARY:S. Messa con processione nella parrocchia di San Giuseppe all’Aurelio in occasione della festa patronale.
DESCRIPTION:
URL:https://www.diocesidiroma.it/event/s-messa-con-processione-nella-parrocchia-di-san-giuseppe-allaurelio-in-occasione-della-festa-patronale/
CATEGORIES:NON USARE --- Agenda del Vicario
END:VEVENT
END:VCALENDAR