BEGIN:VCALENDAR
VERSION:2.0
PRODID:-//DIOCESI DI ROMA - ECPv4.6.14.1//NONSGML v1.0//EN
CALSCALE:GREGORIAN
METHOD:PUBLISH
X-WR-CALNAME:DIOCESI DI ROMA
X-ORIGINAL-URL:https://www.diocesidiroma.it
X-WR-CALDESC:Eventi per DIOCESI DI ROMA
BEGIN:VEVENT
DTSTART;VALUE=DATE:20171102
DTEND;VALUE=DATE:20171103
DTSTAMP:20260424T205231
CREATED:20171228T114246Z
LAST-MODIFIED:20171228T114246Z
UID:382-1509580800-1509667199@www.diocesidiroma.it
SUMMARY:S. Messa dei Vescovi Ausiliari nei cimiteri della Diocesi
DESCRIPTION:
URL:https://www.diocesidiroma.it/event/s-messa-dei-vescovi-ausiliari-nei-cimiteri-della-diocesi/
CATEGORIES:In Diocesi
END:VEVENT
END:VCALENDAR