BEGIN:VCALENDAR
VERSION:2.0
PRODID:-//DIOCESI DI ROMA - ECPv4.6.14.1//NONSGML v1.0//EN
CALSCALE:GREGORIAN
METHOD:PUBLISH
X-WR-CALNAME:DIOCESI DI ROMA
X-ORIGINAL-URL:https://www.diocesidiroma.it
X-WR-CALDESC:Eventi per DIOCESI DI ROMA
BEGIN:VEVENT
DTSTART;TZID=Europe/Rome:20251029T090000
DTEND;TZID=Europe/Rome:20251029T090000
DTSTAMP:20260424T143640
CREATED:20251024T102407Z
LAST-MODIFIED:20251024T102407Z
UID:38176-1761728400-1761728400@www.diocesidiroma.it
SUMMARY:S. Messa in occasione dell’inaugurazione dell’anno accademico dell’ Accademia Alfonsiana
DESCRIPTION:S. Messa in occasione dell’inaugurazione dell’anno accademico dell’ Accademia Alfonsiana \n
URL:https://www.diocesidiroma.it/event/s-messa-in-occasione-dellinaugurazione-dellanno-accademico-dell-accademia-alfonsiana/
CATEGORIES:Vicario Generale
END:VEVENT
END:VCALENDAR