BEGIN:VCALENDAR
VERSION:2.0
PRODID:-//DIOCESI DI ROMA - ECPv4.6.14.1//NONSGML v1.0//EN
CALSCALE:GREGORIAN
METHOD:PUBLISH
X-WR-CALNAME:DIOCESI DI ROMA
X-ORIGINAL-URL:https://www.diocesidiroma.it
X-WR-CALDESC:Eventi per DIOCESI DI ROMA
BEGIN:VEVENT
DTSTART;TZID=Europe/Rome:20251208T160000
DTEND;TZID=Europe/Rome:20251208T160000
DTSTAMP:20260424T000300
CREATED:20250911T062337Z
LAST-MODIFIED:20250911T062337Z
UID:37051-1765209600-1765209600@www.diocesidiroma.it
SUMMARY:S. Messa per Festa Comunità Romena di Rito Latino - SS. Vitale e Compagni Martiri (Uff. Migrantes per la pastorale della mobilità umana)
DESCRIPTION:S. Messa per Festa Comunità Romena di Rito Latino – SS. Vitale e Compagni Martiri (Uff. Migrantes per la pastorale della mobilità umana) \n
URL:https://www.diocesidiroma.it/event/s-messa-per-festa-comunita-romena-di-rito-latino-ss-vitale-e-compagni-martiri-uff-migrantes-per-la-pastorale-della-mobilita-umana/
CATEGORIES:In Diocesi,Iniziative degli Uffici
END:VEVENT
END:VCALENDAR