BEGIN:VCALENDAR
VERSION:2.0
PRODID:-//DIOCESI DI ROMA - ECPv4.6.14.1//NONSGML v1.0//EN
CALSCALE:GREGORIAN
METHOD:PUBLISH
X-WR-CALNAME:DIOCESI DI ROMA
X-ORIGINAL-URL:https://www.diocesidiroma.it
X-WR-CALDESC:Eventi per DIOCESI DI ROMA
BEGIN:VEVENT
DTSTART;VALUE=DATE:20180309
DTEND;VALUE=DATE:20180310
DTSTAMP:20260425T005805
CREATED:20171228T133545Z
LAST-MODIFIED:20171228T133545Z
UID:596-1520553600-1520639999@www.diocesidiroma.it
SUMMARY:S. Messa per la Festa di S. Francesca Romana\, Patrona delle vedove
DESCRIPTION:
URL:https://www.diocesidiroma.it/event/s-messa-per-la-festa-di-s-francesca-romana-patrona-delle-vedove/
CATEGORIES:Iniziative degli Uffici
END:VEVENT
END:VCALENDAR