BEGIN:VCALENDAR
VERSION:2.0
PRODID:-//DIOCESI DI ROMA - ECPv4.6.14.1//NONSGML v1.0//EN
CALSCALE:GREGORIAN
METHOD:PUBLISH
X-WR-CALNAME:DIOCESI DI ROMA
X-ORIGINAL-URL:https://www.diocesidiroma.it
X-WR-CALDESC:Eventi per DIOCESI DI ROMA
BEGIN:VEVENT
DTSTART;TZID=Europe/Rome:20250524T180000
DTEND;TZID=Europe/Rome:20250524T180000
DTSTAMP:20260420T212605
CREATED:20250516T115853Z
LAST-MODIFIED:20250516T115853Z
UID:35699-1748109600-1748109600@www.diocesidiroma.it
SUMMARY:S. Messa presso la parrocchia S. Filippo Neri in Eurosia
DESCRIPTION:S. Messa presso la parrocchia S. Filippo Neri in Eurosia \n
URL:https://www.diocesidiroma.it/event/s-messa-presso-la-parrocchia-s-filippo-neri-in-eurosia/
CATEGORIES:Vicario Generale
END:VEVENT
END:VCALENDAR