BEGIN:VCALENDAR
VERSION:2.0
PRODID:-//DIOCESI DI ROMA - ECPv4.6.14.1//NONSGML v1.0//EN
CALSCALE:GREGORIAN
METHOD:PUBLISH
X-WR-CALNAME:DIOCESI DI ROMA
X-ORIGINAL-URL:https://www.diocesidiroma.it
X-WR-CALDESC:Eventi per DIOCESI DI ROMA
BEGIN:VEVENT
DTSTART;TZID=Europe/Rome:20251101T103000
DTEND;TZID=Europe/Rome:20251101T103000
DTSTAMP:20260423T014248
CREATED:20251024T104841Z
LAST-MODIFIED:20251024T104841Z
UID:38205-1761993000-1761993000@www.diocesidiroma.it
SUMMARY:S.Messa presso la parrocchia S. Francesco d'Assisi a Monte Mario
DESCRIPTION:S.Messa presso la parrocchia S. Francesco d’Assisi a Monte Mario \n
URL:https://www.diocesidiroma.it/event/s-messa-presso-la-parrocchia-s-francesco-dassisi-a-monte-mario/
CATEGORIES:Vicario Generale
END:VEVENT
END:VCALENDAR