BEGIN:VCALENDAR
VERSION:2.0
PRODID:-//DIOCESI DI ROMA - ECPv4.6.14.1//NONSGML v1.0//EN
CALSCALE:GREGORIAN
METHOD:PUBLISH
X-WR-CALNAME:DIOCESI DI ROMA
X-ORIGINAL-URL:https://www.diocesidiroma.it
X-WR-CALDESC:Eventi per DIOCESI DI ROMA
BEGIN:VEVENT
DTSTART;TZID=Europe/Rome:20251028T190000
DTEND;TZID=Europe/Rome:20251028T190000
DTSTAMP:20260424T042746
CREATED:20251024T102321Z
LAST-MODIFIED:20251024T102321Z
UID:38174-1761678000-1761678000@www.diocesidiroma.it
SUMMARY:S. Messa presso la parrocchia S. Giuda Taddeo\, Apostolo
DESCRIPTION:S. Messa presso la parrocchia S. Giuda Taddeo\, Apostolo \n
URL:https://www.diocesidiroma.it/event/s-messa-presso-la-parrocchia-s-giuda-taddeo-apostolo/
CATEGORIES:Vicario Generale
END:VEVENT
END:VCALENDAR