BEGIN:VCALENDAR
VERSION:2.0
PRODID:-//DIOCESI DI ROMA - ECPv4.6.14.1//NONSGML v1.0//EN
CALSCALE:GREGORIAN
METHOD:PUBLISH
X-WR-CALNAME:DIOCESI DI ROMA
X-ORIGINAL-URL:https://www.diocesidiroma.it
X-WR-CALDESC:Eventi per DIOCESI DI ROMA
BEGIN:VEVENT
DTSTART;TZID=Europe/Rome:20251101T123000
DTEND;TZID=Europe/Rome:20251101T123000
DTSTAMP:20260423T134135
CREATED:20251024T104917Z
LAST-MODIFIED:20251024T104917Z
UID:38207-1762000200-1762000200@www.diocesidiroma.it
SUMMARY:S. Messa presso la Parrocchia S. Paola Romana
DESCRIPTION:S. Messa presso la Parrocchia S. Paola Romana \n
URL:https://www.diocesidiroma.it/event/s-messa-presso-la-parrocchia-s-paola-romana/
CATEGORIES:Vicario Generale
END:VEVENT
END:VCALENDAR