BEGIN:VCALENDAR
VERSION:2.0
PRODID:-//DIOCESI DI ROMA - ECPv4.6.14.1//NONSGML v1.0//EN
CALSCALE:GREGORIAN
METHOD:PUBLISH
X-WR-CALNAME:DIOCESI DI ROMA
X-ORIGINAL-URL:https://www.diocesidiroma.it
X-WR-CALDESC:Eventi per DIOCESI DI ROMA
BEGIN:VEVENT
DTSTART;TZID=Europe/Rome:20251102T103000
DTEND;TZID=Europe/Rome:20251102T103000
DTSTAMP:20260423T154509
CREATED:20251024T105031Z
LAST-MODIFIED:20251024T105031Z
UID:38211-1762079400-1762079400@www.diocesidiroma.it
SUMMARY:S. Messa presso la Parrocchia Santi Aquila e Priscilla
DESCRIPTION:S. Messa presso la Parrocchia Santi Aquila e Priscilla \n
URL:https://www.diocesidiroma.it/event/s-messa-presso-la-parrocchia-santi-aquila-e-priscilla/
CATEGORIES:Vicario Generale
END:VEVENT
END:VCALENDAR