BEGIN:VCALENDAR
VERSION:2.0
PRODID:-//DIOCESI DI ROMA - ECPv4.6.14.1//NONSGML v1.0//EN
CALSCALE:GREGORIAN
METHOD:PUBLISH
X-WR-CALNAME:DIOCESI DI ROMA
X-ORIGINAL-URL:https://www.diocesidiroma.it
X-WR-CALDESC:Eventi per DIOCESI DI ROMA
BEGIN:VEVENT
DTSTART;TZID=Europe/Rome:20251029T160000
DTEND;TZID=Europe/Rome:20251029T160000
DTSTAMP:20260421T150806
CREATED:20251024T102758Z
LAST-MODIFIED:20251027T103643Z
UID:38186-1761753600-1761753600@www.diocesidiroma.it
SUMMARY:S. Messa nella rettoria di Santa Maria del Pianto
DESCRIPTION:S. Messa nella rettoria di Santa Maria del Pianto \n
URL:https://www.diocesidiroma.it/event/s-messa-presso-la-rettoria-dei-santi-biagio-e-carlo-ai-catinari-con-lassociazione-italia-solidale/
CATEGORIES:Vicario Generale
END:VEVENT
END:VCALENDAR