BEGIN:VCALENDAR
VERSION:2.0
PRODID:-//DIOCESI DI ROMA - ECPv4.6.14.1//NONSGML v1.0//EN
CALSCALE:GREGORIAN
METHOD:PUBLISH
X-WR-CALNAME:DIOCESI DI ROMA
X-ORIGINAL-URL:https://www.diocesidiroma.it
X-WR-CALDESC:Eventi per DIOCESI DI ROMA
BEGIN:VEVENT
DTSTART;VALUE=DATE:20180331
DTEND;VALUE=DATE:20180401
DTSTAMP:20260424T162644
CREATED:20171228T134658Z
LAST-MODIFIED:20171228T134658Z
UID:638-1522454400-1522540799@www.diocesidiroma.it
SUMMARY:SABATO SANTO
DESCRIPTION:
URL:https://www.diocesidiroma.it/event/sabato-santo/
CATEGORIES:Ricorrenze
END:VEVENT
END:VCALENDAR