BEGIN:VCALENDAR
VERSION:2.0
PRODID:-//DIOCESI DI ROMA - ECPv4.6.14.1//NONSGML v1.0//EN
CALSCALE:GREGORIAN
METHOD:PUBLISH
X-WR-CALNAME:DIOCESI DI ROMA
X-ORIGINAL-URL:https://www.diocesidiroma.it
X-WR-CALDESC:Eventi per DIOCESI DI ROMA
BEGIN:VEVENT
DTSTART;VALUE=DATE:20180608
DTEND;VALUE=DATE:20180609
DTSTAMP:20260424T152743
CREATED:20171228T141446Z
LAST-MODIFIED:20171228T141446Z
UID:726-1528416000-1528502399@www.diocesidiroma.it
SUMMARY:SACRATISSIMO CUORE DI GESU’
DESCRIPTION:
URL:https://www.diocesidiroma.it/event/sacratissimo-cuore-di-gesu/
CATEGORIES:Ricorrenze
END:VEVENT
END:VCALENDAR