BEGIN:VCALENDAR
VERSION:2.0
PRODID:-//DIOCESI DI ROMA - ECPv4.6.14.1//NONSGML v1.0//EN
CALSCALE:GREGORIAN
METHOD:PUBLISH
X-WR-CALNAME:DIOCESI DI ROMA
X-ORIGINAL-URL:https://www.diocesidiroma.it
X-WR-CALDESC:Eventi per DIOCESI DI ROMA
BEGIN:VEVENT
DTSTART;VALUE=DATE:20180319
DTEND;VALUE=DATE:20180320
DTSTAMP:20260424T125759
CREATED:20171228T133918Z
LAST-MODIFIED:20171228T133918Z
UID:609-1521417600-1521503999@www.diocesidiroma.it
SUMMARY:SAN GIUSEPPE\, SPOSO DELLA B.V.MARIA
DESCRIPTION:
URL:https://www.diocesidiroma.it/event/san-giuseppe-sposo-della-b-v-maria/
CATEGORIES:Ricorrenze
END:VEVENT
END:VCALENDAR