BEGIN:VCALENDAR
VERSION:2.0
PRODID:-//DIOCESI DI ROMA - ECPv4.6.14.1//NONSGML v1.0//EN
CALSCALE:GREGORIAN
METHOD:PUBLISH
X-WR-CALNAME:DIOCESI DI ROMA
X-ORIGINAL-URL:https://www.diocesidiroma.it
X-WR-CALDESC:Eventi per DIOCESI DI ROMA
BEGIN:VEVENT
DTSTART;TZID=Europe/Rome:20190319T000000
DTEND;TZID=Europe/Rome:20190319T000000
DTSTAMP:20260420T214812
CREATED:20181011T080301Z
LAST-MODIFIED:20181011T080301Z
UID:5021-1552953600-1552953600@www.diocesidiroma.it
SUMMARY:San Giuseppe
DESCRIPTION:San Giuseppe \n
URL:https://www.diocesidiroma.it/event/san-giuseppe/
CATEGORIES:Ricorrenze
END:VEVENT
END:VCALENDAR