BEGIN:VCALENDAR
VERSION:2.0
PRODID:-//DIOCESI DI ROMA - ECPv4.6.14.1//NONSGML v1.0//EN
CALSCALE:GREGORIAN
METHOD:PUBLISH
X-WR-CALNAME:DIOCESI DI ROMA
X-ORIGINAL-URL:https://www.diocesidiroma.it
X-WR-CALDESC:Eventi per DIOCESI DI ROMA
BEGIN:VEVENT
DTSTART;TZID=Europe/Rome:20250415T093000
DTEND;TZID=Europe/Rome:20250415T093000
DTSTAMP:20260421T053529
CREATED:20250410T113219Z
LAST-MODIFIED:20250410T113219Z
UID:35087-1744709400-1744709400@www.diocesidiroma.it
SUMMARY:San Lorenzo in Panisperna - Santa Messa con la Polizia di Stato
DESCRIPTION:San Lorenzo in Panisperna – Santa Messa con la Polizia di Stato \n
URL:https://www.diocesidiroma.it/event/san-lorenzo-in-panisperna-santa-messa-con-la-polizia-di-stato/
CATEGORIES:Vicario Generale
END:VEVENT
END:VCALENDAR