BEGIN:VCALENDAR
VERSION:2.0
PRODID:-//DIOCESI DI ROMA - ECPv4.6.14.1//NONSGML v1.0//EN
CALSCALE:GREGORIAN
METHOD:PUBLISH
X-WR-CALNAME:DIOCESI DI ROMA
X-ORIGINAL-URL:https://www.diocesidiroma.it
X-WR-CALDESC:Eventi per DIOCESI DI ROMA
BEGIN:VEVENT
DTSTART;VALUE=DATE:20180425
DTEND;VALUE=DATE:20180426
DTSTAMP:20260426T043326
CREATED:20171228T135739Z
LAST-MODIFIED:20171228T135739Z
UID:677-1524614400-1524700799@www.diocesidiroma.it
SUMMARY:SAN MARCO EVANGELISTA
DESCRIPTION:
URL:https://www.diocesidiroma.it/event/san-marco-evangelista/
CATEGORIES:Ricorrenze
END:VEVENT
END:VCALENDAR