BEGIN:VCALENDAR
VERSION:2.0
PRODID:-//DIOCESI DI ROMA - ECPv4.6.14.1//NONSGML v1.0//EN
CALSCALE:GREGORIAN
METHOD:PUBLISH
X-WR-CALNAME:DIOCESI DI ROMA
X-ORIGINAL-URL:https://www.diocesidiroma.it
X-WR-CALDESC:Eventi per DIOCESI DI ROMA
BEGIN:VEVENT
DTSTART;TZID=Europe/Rome:20250531T100000
DTEND;TZID=Europe/Rome:20250531T100000
DTSTAMP:20260424T051613
CREATED:20250523T091955Z
LAST-MODIFIED:20250523T091955Z
UID:35796-1748685600-1748685600@www.diocesidiroma.it
SUMMARY:San Pietro: ordinazioni presbiterali
DESCRIPTION:San Pietro: ordinazioni presbiterali \n
URL:https://www.diocesidiroma.it/event/san-pietro-ordinazioni-presbiterali/
CATEGORIES:Vicario Generale
END:VEVENT
END:VCALENDAR