BEGIN:VCALENDAR
VERSION:2.0
PRODID:-//DIOCESI DI ROMA - ECPv4.6.14.1//NONSGML v1.0//EN
CALSCALE:GREGORIAN
METHOD:PUBLISH
X-WR-CALNAME:DIOCESI DI ROMA
X-ORIGINAL-URL:https://www.diocesidiroma.it
X-WR-CALDESC:Eventi per DIOCESI DI ROMA
BEGIN:VEVENT
DTSTART;TZID=Europe/Rome:20241229T180000
DTEND;TZID=Europe/Rome:20241229T180000
DTSTAMP:20260425T001833
CREATED:20241220T074622Z
LAST-MODIFIED:20241220T074622Z
UID:32786-1735495200-1735495200@www.diocesidiroma.it
SUMMARY:San Vincenzo de' Paoli (Ostia)
DESCRIPTION:San Vincenzo de’ Paoli (Ostia) \n
URL:https://www.diocesidiroma.it/event/san-vincenzo-de-paoli-ostia/
CATEGORIES:Vicario Generale
END:VEVENT
END:VCALENDAR