BEGIN:VCALENDAR
VERSION:2.0
PRODID:-//DIOCESI DI ROMA - ECPv4.6.14.1//NONSGML v1.0//EN
CALSCALE:GREGORIAN
METHOD:PUBLISH
X-WR-CALNAME:DIOCESI DI ROMA
X-ORIGINAL-URL:https://www.diocesidiroma.it
X-WR-CALDESC:Eventi per DIOCESI DI ROMA
BEGIN:VEVENT
DTSTART;TZID=Europe/Rome:20250416T090000
DTEND;TZID=Europe/Rome:20250416T090000
DTSTAMP:20260421T103815
CREATED:20250410T113524Z
LAST-MODIFIED:20250410T113524Z
UID:35095-1744794000-1744794000@www.diocesidiroma.it
SUMMARY:San Vitale – Santa Messa per la Corte Costituzionale
DESCRIPTION:San Vitale – Santa Messa per la Corte Costituzionale  \n
URL:https://www.diocesidiroma.it/event/san-vitale-santa-messa-per-la-corte-costituzionale/
CATEGORIES:Vicario Generale
END:VEVENT
END:VCALENDAR