BEGIN:VCALENDAR
VERSION:2.0
PRODID:-//DIOCESI DI ROMA - ECPv4.6.14.1//NONSGML v1.0//EN
CALSCALE:GREGORIAN
METHOD:PUBLISH
X-WR-CALNAME:DIOCESI DI ROMA
X-ORIGINAL-URL:https://www.diocesidiroma.it
X-WR-CALDESC:Eventi per DIOCESI DI ROMA
BEGIN:VEVENT
DTSTART;TZID=Europe/Rome:20250404T233000
DTEND;TZID=Europe/Rome:20250404T233000
DTSTAMP:20260424T181055
CREATED:20250327T111207Z
LAST-MODIFIED:20250327T111207Z
UID:34851-1743809400-1743809400@www.diocesidiroma.it
SUMMARY:Santa Messa a conclusione del pellegrinaggio giubilare della diocesi di Roma nella basilica di San Giovanni in Laterano
DESCRIPTION:Santa Messa a conclusione del pellegrinaggio giubilare della diocesi di Roma nella basilica di San Giovanni in Laterano \n
URL:https://www.diocesidiroma.it/event/santa-messa-a-conclusione-del-pellegrinaggio-giubilare-della-diocesi-di-roma-nella-basilica-di-san-giovanni-in-laterano/
CATEGORIES:Vicario Generale
END:VEVENT
END:VCALENDAR