BEGIN:VCALENDAR
VERSION:2.0
PRODID:-//DIOCESI DI ROMA - ECPv4.6.14.1//NONSGML v1.0//EN
CALSCALE:GREGORIAN
METHOD:PUBLISH
X-WR-CALNAME:DIOCESI DI ROMA
X-ORIGINAL-URL:https://www.diocesidiroma.it
X-WR-CALDESC:Eventi per DIOCESI DI ROMA
BEGIN:VEVENT
DTSTART;TZID=Europe/Rome:20250319T180000
DTEND;TZID=Europe/Rome:20250319T180000
DTSTAMP:20260425T021915
CREATED:20250314T105805Z
LAST-MODIFIED:20250314T105805Z
UID:34474-1742407200-1742407200@www.diocesidiroma.it
SUMMARY:Santa Messa a San Giuseppe all’Aurelio
DESCRIPTION:Santa Messa a San Giuseppe all’Aurelio \n
URL:https://www.diocesidiroma.it/event/santa-messa-a-san-giuseppe-allaurelio/
CATEGORIES:Vicario Generale
END:VEVENT
END:VCALENDAR