BEGIN:VCALENDAR
VERSION:2.0
PRODID:-//DIOCESI DI ROMA - ECPv4.6.14.1//NONSGML v1.0//EN
CALSCALE:GREGORIAN
METHOD:PUBLISH
X-WR-CALNAME:DIOCESI DI ROMA
X-ORIGINAL-URL:https://www.diocesidiroma.it
X-WR-CALDESC:Eventi per DIOCESI DI ROMA
BEGIN:VEVENT
DTSTART;TZID=Europe/Rome:20251116T120000
DTEND;TZID=Europe/Rome:20251116T120000
DTSTAMP:20260423T092730
CREATED:20251107T111847Z
LAST-MODIFIED:20251107T111847Z
UID:38473-1763294400-1763294400@www.diocesidiroma.it
SUMMARY:Santa Messa a San Giuseppe Cafasso
DESCRIPTION:Santa Messa a San Giuseppe Cafasso \n
URL:https://www.diocesidiroma.it/event/santa-messa-a-san-giuseppe-cafasso/
CATEGORIES:Vicario Generale
END:VEVENT
END:VCALENDAR