BEGIN:VCALENDAR
VERSION:2.0
PRODID:-//DIOCESI DI ROMA - ECPv4.6.14.1//NONSGML v1.0//EN
CALSCALE:GREGORIAN
METHOD:PUBLISH
X-WR-CALNAME:DIOCESI DI ROMA
X-ORIGINAL-URL:https://www.diocesidiroma.it
X-WR-CALDESC:Eventi per DIOCESI DI ROMA
BEGIN:VEVENT
DTSTART;TZID=Europe/Rome:20250222T193000
DTEND;TZID=Europe/Rome:20250222T193000
DTSTAMP:20260424T203612
CREATED:20250214T113706Z
LAST-MODIFIED:20250214T113706Z
UID:33939-1740252600-1740252600@www.diocesidiroma.it
SUMMARY:Santa Messa a San Paolo fuori le Mura per il XX anniversario dalla morte di Don Luigi Giussani
DESCRIPTION:Santa Messa a San Paolo fuori le Mura per il XX anniversario dalla morte di Don Luigi Giussani \n
URL:https://www.diocesidiroma.it/event/santa-messa-a-san-paolo-fuori-le-mura-per-il-xx-anniversario-dalla-morte-di-don-luigi-giussani/
CATEGORIES:Vicario Generale
END:VEVENT
END:VCALENDAR