BEGIN:VCALENDAR
VERSION:2.0
PRODID:-//DIOCESI DI ROMA - ECPv4.6.14.1//NONSGML v1.0//EN
CALSCALE:GREGORIAN
METHOD:PUBLISH
X-WR-CALNAME:DIOCESI DI ROMA
X-ORIGINAL-URL:https://www.diocesidiroma.it
X-WR-CALDESC:Eventi per DIOCESI DI ROMA
BEGIN:VEVENT
DTSTART;TZID=Europe/Rome:20250928T163000
DTEND;TZID=Europe/Rome:20250928T163000
DTSTAMP:20260424T145155
CREATED:20250919T073125Z
LAST-MODIFIED:20250919T073125Z
UID:37292-1759077000-1759077000@www.diocesidiroma.it
SUMMARY:Santa Messa a San Sebastiano
DESCRIPTION:Santa Messa a San Sebastiano \n
URL:https://www.diocesidiroma.it/event/santa-messa-a-san-sebastiano/
CATEGORIES:Vicario Generale
END:VEVENT
END:VCALENDAR