BEGIN:VCALENDAR
VERSION:2.0
PRODID:-//DIOCESI DI ROMA - ECPv4.6.14.1//NONSGML v1.0//EN
CALSCALE:GREGORIAN
METHOD:PUBLISH
X-WR-CALNAME:DIOCESI DI ROMA
X-ORIGINAL-URL:https://www.diocesidiroma.it
X-WR-CALDESC:Eventi per DIOCESI DI ROMA
BEGIN:VEVENT
DTSTART;TZID=Europe/Rome:20250914T113000
DTEND;TZID=Europe/Rome:20250914T113000
DTSTAMP:20260422T230933
CREATED:20250905T082823Z
LAST-MODIFIED:20250905T082823Z
UID:36770-1757849400-1757849400@www.diocesidiroma.it
SUMMARY:Santa Messa a Santa Croce in Gerusalemme
DESCRIPTION:Santa Messa a Santa Croce in Gerusalemme \n
URL:https://www.diocesidiroma.it/event/santa-messa-a-santa-croce-in-gerusalemme/
CATEGORIES:Vicario Generale
END:VEVENT
END:VCALENDAR