BEGIN:VCALENDAR
VERSION:2.0
PRODID:-//DIOCESI DI ROMA - ECPv4.6.14.1//NONSGML v1.0//EN
CALSCALE:GREGORIAN
METHOD:PUBLISH
X-WR-CALNAME:DIOCESI DI ROMA
X-ORIGINAL-URL:https://www.diocesidiroma.it
X-WR-CALDESC:Eventi per DIOCESI DI ROMA
BEGIN:VEVENT
DTSTART;TZID=Europe/Rome:20250317T110000
DTEND;TZID=Europe/Rome:20250317T110000
DTSTAMP:20260422T060514
CREATED:20250314T104602Z
LAST-MODIFIED:20250314T104602Z
UID:34457-1742209200-1742209200@www.diocesidiroma.it
SUMMARY:Santa Messa a Santa Maria Maggiore con l’Almo Collegio Capranica
DESCRIPTION:Santa Messa a Santa Maria Maggiore con l’Almo Collegio Capranica \n
URL:https://www.diocesidiroma.it/event/santa-messa-a-santa-maria-maggiore-con-lalmo-collegio-capranica/
CATEGORIES:Vicario Generale
END:VEVENT
END:VCALENDAR